BEGIN:VCALENDAR
VERSION:2.0
PRODID:-//wp-events-plugin.com//7.2.3.1//EN
TZID:Europe/Berlin
X-WR-TIMEZONE:Europe/Berlin
BEGIN:VEVENT
UID:26@tus-klotten.de
DTSTART;TZID=Europe/Berlin:20261128T143000
DTEND;TZID=Europe/Berlin:20261128T193000
DTSTAMP:20260301T095538Z
URL:https://tus-klotten.de/events/winterwanderung-mit-nikolaus-2026/
SUMMARY:Winterwanderung mit Punsch\, Glühwein und dem Nikolaus
DESCRIPTION:\n\n\n\nAm 07.12.2024 ab 14:30 Uhr.\nTreffpunkt: Turnhalle\nWei
 tere Infos folgen.\n\n\n\n\n
LOCATION:Turnhalle TuS Klotten 1919 e.V.\, Brühlstraße 1\, Klotten\, 5681
 8\, Deutschland
X-APPLE-STRUCTURED-LOCATION;VALUE=URI;X-ADDRESS=Brühlstraße 1\, Klotten\,
  56818\, Deutschland;X-APPLE-RADIUS=100;X-TITLE=Turnhalle TuS Klotten 1919
  e.V.:geo:0,0
END:VEVENT
BEGIN:VTIMEZONE
TZID:Europe/Berlin
X-LIC-LOCATION:Europe/Berlin
BEGIN:STANDARD
DTSTART:20261025T020000
TZOFFSETFROM:+0200
TZOFFSETTO:+0100
TZNAME:CET
END:STANDARD
END:VTIMEZONE
END:VCALENDAR