BEGIN:VCALENDAR
VERSION:2.0
PRODID:-//wp-events-plugin.com//7.2.3.1//EN
TZID:Europe/Berlin
X-WR-TIMEZONE:Europe/Berlin
BEGIN:VEVENT
UID:22@tus-klotten.de
DTSTART;TZID=Europe/Berlin:20260909T090000
DTEND;TZID=Europe/Berlin:20260912T180000
DTSTAMP:20260301T094633Z
URL:https://tus-klotten.de/events/4-tage-wanderung_2026/
SUMMARY:4-Tage Wanderung 2026
DESCRIPTION:Weitere Infos folgen.
LOCATION:Moselschieferplatz Klotten\, Moselstr. 27\, Klotten\, Rheinland-Pf
 alz\, 56818\, Deutschland
X-APPLE-STRUCTURED-LOCATION;VALUE=URI;X-ADDRESS=Moselstr. 27\, Klotten\, Rh
 einland-Pfalz\, 56818\, Deutschland;X-APPLE-RADIUS=100;X-TITLE=Moselschief
 erplatz Klotten:geo:0,0
END:VEVENT
BEGIN:VTIMEZONE
TZID:Europe/Berlin
X-LIC-LOCATION:Europe/Berlin
BEGIN:DAYLIGHT
DTSTART:20260329T030000
TZOFFSETFROM:+0100
TZOFFSETTO:+0200
TZNAME:CEST
END:DAYLIGHT
END:VTIMEZONE
END:VCALENDAR